BEGIN:VCALENDAR
VERSION:2.0
PRODID:-//EJW Neuenbürg - ECPv5.10.0//NONSGML v1.0//EN
CALSCALE:GREGORIAN
METHOD:PUBLISH
X-WR-CALNAME:EJW Neuenbürg
X-ORIGINAL-URL:https://www.ejw-neuenbuerg.de
X-WR-CALDESC:Veranstaltungen für EJW Neuenbürg
BEGIN:VTIMEZONE
TZID:Europe/Berlin
BEGIN:DAYLIGHT
TZOFFSETFROM:+0100
TZOFFSETTO:+0200
TZNAME:CEST
DTSTART:20240331T010000
END:DAYLIGHT
BEGIN:STANDARD
TZOFFSETFROM:+0200
TZOFFSETTO:+0100
TZNAME:CET
DTSTART:20241027T010000
END:STANDARD
END:VTIMEZONE
BEGIN:VEVENT
DTSTART;TZID=Europe/Berlin:20240824T000000
DTEND;TZID=Europe/Berlin:20240830T235959
DTSTAMP:20260422T105146
CREATED:20211115T113203Z
LAST-MODIFIED:20231106T090535Z
UID:1959-1724457600-1725062399@www.ejw-neuenbuerg.de
SUMMARY:Ferienspaß in Sprollenhaus
DESCRIPTION:Darauf kannst du dich freuen:Du hast Lust auf Natur pur\, aber übernachtest lieber im Haus: Dann bist du bei uns genau richtig.Wir werden tolle Tage in der wildromantischen Natur des Kegelbachtals rund um ein biblisches Thema erleben.Spiel\, Spaß\, Basteln\, Lieder\, Lagerfeuer und biblische Geschichten\, sowie eine tolle Gemeinschaft dürfen dabei natürlich nicht fehlen. \n\n\n\nDiese Freizeit wird im Freizeitheim in Sprollenhaus stattfinden. Hier sind wir mitten in der Natur und umgeben von tollen Attraktionen. \n\n\n\nHaben wir dich neugierig gemacht?Dann schnell anmelden\, wir freuen uns auf Dich.Die Freizeit beginnt am Samstagnachmittag und endet am Freitagnachmittag.Die An- und Abreise organisiert jeder selbst. \n\n\n\nFür Jungen und Mädchen von 7 – 12 JahrenOrt: Freizeitheim SprollenhausPreis: 180\,- € bis 29. Februar 2024 / 199\,- € ab 1. März 2024 \n\n\n\n20€ GeschwisterrabattLeistungen: Übernachtung im Haus\, Vollverpflegung\, Programm inkl. TagesausflugLeitung: Rahel Wieland und Dieter Dörr \n\n\n\n\nAnmeldeformular
URL:https://www.ejw-neuenbuerg.de/kalender/ferienspass-in-sprollenhaus/
LOCATION:Freizeitheim Sprollenhaus\, Kaltenbronner Str. 99\, Bad Wildbad\, Sprollenhaus\, Deutschland
CATEGORIES:Freizeiten
ATTACH;FMTTYPE=image/jpeg:https://www.ejw-neuenbuerg.de/wp-content/uploads/2020/11/Ferienspass2-scaled.jpg
ORGANIZER;CN="EJW%20Neuenb%C3%BCrg":MAILTO:info@ejw-neuenbuerg.de
END:VEVENT
BEGIN:VEVENT
DTSTART;TZID=Europe/Berlin:20240826T000000
DTEND;TZID=Europe/Berlin:20240902T235959
DTSTAMP:20260422T105146
CREATED:20201108T185216Z
LAST-MODIFIED:20231130T173143Z
UID:567-1724630400-1725321599@www.ejw-neuenbuerg.de
SUMMARY:Summer-Teen-Camp am Chiemsee
DESCRIPTION:Spaß\, Action\, Sport und Chiemsee\, all das erlebst du auf unserem Summer-Teen-Camp 2024. \n\n\n\nFür 7 Tage sind wir in einem schönen Haus nahe des Chiemsees untergebracht.Neben Kicker\, Grill und Tischtennis-Platte werden wir natürlich den Chiemseesee nutzen um zu Schwimmen und die Sonne zu genießen. \n\n\n\nZudem werden wir die vorhandenen Freizeitmöglichkeiten in der näheren Umgebung aufsuchen. \n\n\n\nDu siehst wir haben an alles gedacht: actionreiche Tage\, Zeit zum Erholen und Chillen\, gemeinsame Aktionen mit viel Spaß und Zeiten\, in denen wir Gott begegnen möchten.Wir freuen uns\, wenn DU dabei bist! \n\n\n\nPreis:345\,- € bis 29. Februar 2024 / 365\,- € ab 1. März 2024 \n\n\n\n20€ Geschwisterrabatt! \n\n\n\nLeistungen:Fahrt im modernen Reisebus\, Übernachtung im Haus und Vollpension\, Programm inkl. AusflügenLeitung:Björn Dehner \n\n\n\n\nAnmeldeformular
URL:https://www.ejw-neuenbuerg.de/kalender/summer-teen-camp-am-ammersee/
LOCATION:Erzbischof-Hefter-Haus\, Wendelsteinstr. 3\, 83253 Rimsting\, Deutschland
CATEGORIES:Freizeiten
ATTACH;FMTTYPE=image/jpeg:https://www.ejw-neuenbuerg.de/wp-content/uploads/2020/11/ece09683c8c0d71f8e35684273db845c_20875c90ab5272b0ef44_730781_SummerTeenCamp2-edited.jpg
ORGANIZER;CN="EJW%20%E2%80%93%20NEUENB%C3%9CRG%20Bj%C3%B6rn%20Dehner":MAILTO:bjoern.dehner@ejw-neuenbuerg.de
END:VEVENT
END:VCALENDAR