BEGIN:VCALENDAR
VERSION:2.0
PRODID:-//EJW Neuenbürg - ECPv5.10.0//NONSGML v1.0//EN
CALSCALE:GREGORIAN
METHOD:PUBLISH
X-WR-CALNAME:EJW Neuenbürg
X-ORIGINAL-URL:https://www.ejw-neuenbuerg.de
X-WR-CALDESC:Veranstaltungen für EJW Neuenbürg
BEGIN:VTIMEZONE
TZID:Europe/Berlin
BEGIN:DAYLIGHT
TZOFFSETFROM:+0100
TZOFFSETTO:+0200
TZNAME:CEST
DTSTART:20220327T010000
END:DAYLIGHT
BEGIN:STANDARD
TZOFFSETFROM:+0200
TZOFFSETTO:+0100
TZNAME:CET
DTSTART:20221030T010000
END:STANDARD
END:VTIMEZONE
BEGIN:VEVENT
DTSTART;TZID=Europe/Berlin:20220525T000000
DTEND;TZID=Europe/Berlin:20220529T235959
DTSTAMP:20260421T183412
CREATED:20211122T100900Z
LAST-MODIFIED:20211122T104334Z
UID:1996-1653436800-1653868799@www.ejw-neuenbuerg.de
SUMMARY:Christival 2022
DESCRIPTION:EJW Neuenbürg go’s ChristivalSei dabei\, beim Christival 2022 in Erfurt! Es erwarten dich coole Leute aus dem Bezirk\, genialer Lobpreis mit bekannten Bands\, Sprecher\, die du schon immer mal hören wolltest\, viele begeisterte Menschen aus ganz Deutschland\, jede Menge Abwechslung und Angebote\, die dein Herz höherschlagen lassen.Alter: 14 bis 30 JahreDu bist unter 18 Jahren? Kein Problem! Auf dem Christival bist du in Kleingruppen in Erfurt unterwegs. Das Jugendwerk stellt Mitarbeitende\, die als Ansprechpartner für dich erreichbar sind.Anmeldung: Melde dich direkt über die Homepagedes Christivals mit unserer Gruppennummer an – so stellst du sicher\, dass du gemeinsam mit uns im Quartier bist! \n\n\n\n\nChristival Anmeldung\n\n\n\n\nGruppennummer Ev. Jugendwerk Bezirk Neuenbürg: 123456789101112Kosten (mit Frühbucherrabatt bis zum 28.02.2022):Für Schüler und Studenten (inklusive Essen): 169 Euro + Zugticket nach ErfurtPersonen mit Einkommen (inklusive Essen): 199 Euro + Zugticket nach ErfurtDas EJW organisiert die Fahrt zum Christival.Unterbringung: In Hallen und Massenunterkünften.Alle weiteren Informationen zum Christival bekommt ihr unter www.christival.de.  \n\n\n\nDie Informationen zur Fahrt senden wir dir ca. einen Monat vor Abfahrt per Mail zu. Wir freuen uns auf dich!
URL:https://www.ejw-neuenbuerg.de/kalender/christival-2022/
LOCATION:Christival 2022 Erfurt\, Erfurt\, 99099\, Deutschland
ATTACH;FMTTYPE=application/pdf:https://www.ejw-neuenbuerg.de/wp-content/uploads/2021/11/CHRISTIVAL_allgemein_klein.pdf
ORGANIZER;CN="EJW%20Neuenb%C3%BCrg":MAILTO:info@ejw-neuenbuerg.de
END:VEVENT
END:VCALENDAR