BEGIN:VCALENDAR
VERSION:2.0
PRODID:-//EJW Neuenbürg - ECPv5.10.0//NONSGML v1.0//EN
CALSCALE:GREGORIAN
METHOD:PUBLISH
X-WR-CALNAME:EJW Neuenbürg
X-ORIGINAL-URL:https://www.ejw-neuenbuerg.de
X-WR-CALDESC:Veranstaltungen für EJW Neuenbürg
BEGIN:VTIMEZONE
TZID:Europe/Berlin
BEGIN:DAYLIGHT
TZOFFSETFROM:+0100
TZOFFSETTO:+0200
TZNAME:CEST
DTSTART:20220327T010000
END:DAYLIGHT
BEGIN:STANDARD
TZOFFSETFROM:+0200
TZOFFSETTO:+0100
TZNAME:CET
DTSTART:20221030T010000
END:STANDARD
END:VTIMEZONE
BEGIN:VEVENT
DTSTART;TZID=Europe/Berlin:20220723T150000
DTEND;TZID=Europe/Berlin:20220723T235959
DTSTAMP:20260421T200814
CREATED:20211115T125030Z
LAST-MODIFIED:20220623T165139Z
UID:1983-1658588400-1658620799@www.ejw-neuenbuerg.de
SUMMARY:EJW-Jugendevent Action-Day
DESCRIPTION:Im Sommer 2022 erwartet dich etwas Großartiges!Am 23. Juli veranstalten wir ein großes Jugendevent auf dem Sportgelände in Sprollenhaus.Es erwarten dich viele sportliche Herausforderungen wie Water-Soccer\, eine Nerf-Schlacht\, einFußballturnier\, Wickingerschach und vieles mehr. \n\n\n\nBeginn ist um 15 Uhr! Hier gibt es weitere Infos und das Anmeldeformular!
URL:https://www.ejw-neuenbuerg.de/kalender/ejw-jugendevent-action-day_2022/
LOCATION:Freizeitheim Sprollenhaus\, Kaltenbronner Str. 99\, Bad Wildbad\, Sprollenhaus\, Deutschland
CATEGORIES:Events
ATTACH;FMTTYPE=image/jpeg:https://www.ejw-neuenbuerg.de/wp-content/uploads/2020/11/DSC_0668-scaled-e1604862099896.jpg
ORGANIZER;CN="EJW%20Neuenb%C3%BCrg":MAILTO:info@ejw-neuenbuerg.de
END:VEVENT
END:VCALENDAR