BEGIN:VCALENDAR
VERSION:2.0
PRODID:-//EJW Neuenbürg - ECPv5.10.0//NONSGML v1.0//EN
CALSCALE:GREGORIAN
METHOD:PUBLISH
X-WR-CALNAME:EJW Neuenbürg
X-ORIGINAL-URL:https://www.ejw-neuenbuerg.de
X-WR-CALDESC:Veranstaltungen für EJW Neuenbürg
BEGIN:VTIMEZONE
TZID:Europe/Berlin
BEGIN:DAYLIGHT
TZOFFSETFROM:+0100
TZOFFSETTO:+0200
TZNAME:CEST
DTSTART:20220327T010000
END:DAYLIGHT
BEGIN:STANDARD
TZOFFSETFROM:+0200
TZOFFSETTO:+0100
TZNAME:CET
DTSTART:20221030T010000
END:STANDARD
END:VTIMEZONE
BEGIN:VEVENT
DTSTART;TZID=Europe/Berlin:20220809T000000
DTEND;TZID=Europe/Berlin:20220818T235959
DTSTAMP:20260422T105806
CREATED:20211115T114355Z
LAST-MODIFIED:20221218T215913Z
UID:1964-1660003200-1660867199@www.ejw-neuenbuerg.de
SUMMARY:Summer-Teen-Camp am Chiemsee - AUSGEBUCHT-
DESCRIPTION:Spaß\, Action\, Sport und Chiemsee\, all das erlebst du auf unserem Summer-Teen-Camp 2022. \n\n\n\nFür 10 Tage sind wir in einem schönen Haus nahe des Chiemsees untergebracht.Neben Kicker\, Grill und Tischtennis-Platte werden wir natürlich den Chiemsee nutzen um zu Schwimmen\, Boot zu fahren und das herrliche Alpenpanorama im Hintergrund zu genießen.Natürlich werden wir auch den ein oder anderen Ausflug in die nähere Umgebung machen und die vorhandenen Freizeitmöglichkeiten nutzen.Du siehst wir haben an alles gedacht: Actionreiche Tage\, Zeit zum Erholen und Chillen\, gemeinsame Aktionen mit viel Spaß und Zeiten\, in denen wir Gott begegnen möchten. \n\n\n\nPreis:340\,- € bis 28. Februar 2022 / 360\,- € ab 1. März 2022Leistungen:Fahrt im modernen Reisebus\, Übernachtung im Haus und Vollpension\, Programm inkl. AusflügenLeitung:Johannes Baderschneider
URL:https://www.ejw-neuenbuerg.de/kalender/summer-teen-camp-am-chiemsee/
LOCATION:Freizeithaus Chiemsee\, Wendelsteinstr. 3\, Rimsting\, 83253\, Deutschland
CATEGORIES:Freizeiten
ATTACH;FMTTYPE=image/jpeg:https://www.ejw-neuenbuerg.de/wp-content/uploads/2020/07/ece09683c8c0d71f8e35684273db845c_20875c90ab5272b0ef44_730781_SummerTeenCamp2.jpg
ORGANIZER;CN="EJW%20Neuenb%C3%BCrg%20%26%238211%3B%20Johannes%20Baderschneider":MAILTO:johannes.baderschneider@ejw-neuenbuerg.de
END:VEVENT
END:VCALENDAR